BEGIN:VCALENDAR
VERSION:2.0
PRODID:-//Sabre//Sabre VObject 4.5.8//EN
CALSCALE:GREGORIAN
BEGIN:VEVENT
UID:sabre-vobject-ed7b0dc8-b319-4f96-9835-8628f1af650e
DTSTAMP:20260419T151525Z
SUMMARY:NEU! Sapperlot\, was seh' ich da?
DESCRIPTION:https://neuburg.com/veranstaltungen/neu-sapperlot-was-seh-ich-d
 a_id43961
DTSTART;TZID=Europe/Berlin:20260607T190000
DTEND;TZID=Europe/Berlin:20260607T203000
LOCATION:Tourist-Information\, Ottheinrichplatz A 118\, 86633 Neuburg
END:VEVENT
END:VCALENDAR
