BEGIN:VCALENDAR
VERSION:2.0
PRODID:-//Sabre//Sabre VObject 4.5.8//EN
CALSCALE:GREGORIAN
BEGIN:VEVENT
UID:sabre-vobject-acd6afb2-6222-42aa-a19d-39aadb9cd65b
DTSTAMP:20260421T124530Z
SUMMARY: Provinzialbibliotheksführung
DESCRIPTION:https://neuburg.com/veranstaltungen/provinzialbibliotheksfuehru
 ng_id43708
DTSTART;TZID=Europe/Berlin:20260923T143000
DTEND;TZID=Europe/Berlin:20260923T151500
LOCATION:Provinzialbibliothek\, Karlsplatz 17\, 86633 Neuburg an der Donau
END:VEVENT
END:VCALENDAR
