BEGIN:VCALENDAR
VERSION:2.0
PRODID:-//Sabre//Sabre VObject 4.5.8//EN
CALSCALE:GREGORIAN
BEGIN:VEVENT
UID:sabre-vobject-d961a3b7-d665-48f6-89db-dd5fccb419e8
DTSTAMP:20260421T154324Z
SUMMARY: Provinzialbibliotheksführung
DESCRIPTION:https://neuburg.com/veranstaltungen/provinzialbibliotheksfuehru
 ng_id43703
DTSTART;TZID=Europe/Berlin:20260819T143000
DTEND;TZID=Europe/Berlin:20260819T151500
LOCATION:Provinzialbibliothek\, Karlsplatz 17\, 86633 Neuburg an der Donau
END:VEVENT
END:VCALENDAR
