BEGIN:VCALENDAR
VERSION:2.0
PRODID:-//Sabre//Sabre VObject 4.5.8//EN
CALSCALE:GREGORIAN
BEGIN:VEVENT
UID:sabre-vobject-b5499794-48fe-47f9-b19d-1a4b2916eb3e
DTSTAMP:20260421T173237Z
SUMMARY: Provinzialbibliotheksführung
DESCRIPTION:https://neuburg.com/veranstaltungen/provinzialbibliotheksfuehru
 ng_id43701
DTSTART;TZID=Europe/Berlin:20260805T143000
DTEND;TZID=Europe/Berlin:20260805T151500
LOCATION:Provinzialbibliothek\, Karlsplatz 17\, 86633 Neuburg an der Donau
END:VEVENT
END:VCALENDAR
