BEGIN:VCALENDAR
VERSION:2.0
PRODID:-//Sabre//Sabre VObject 4.5.8//EN
CALSCALE:GREGORIAN
BEGIN:VEVENT
UID:sabre-vobject-3c66d18d-4add-4268-8b60-02fa5f5bb359
DTSTAMP:20260423T091913Z
SUMMARY: Provinzialbibliotheksführung
DESCRIPTION:https://neuburg.com/veranstaltungen/provinzialbibliotheksfuehru
 ng_id43698
DTSTART;TZID=Europe/Berlin:20260715T143000
DTEND;TZID=Europe/Berlin:20260715T151500
LOCATION:Provinzialbibliothek\, Karlsplatz 17\, 86633 Neuburg an der Donau
END:VEVENT
END:VCALENDAR
