BEGIN:VCALENDAR
VERSION:2.0
PRODID:-//Sabre//Sabre VObject 4.5.8//EN
CALSCALE:GREGORIAN
BEGIN:VEVENT
UID:sabre-vobject-1af7522e-0102-4081-8b77-540327ef4b5a
DTSTAMP:20260421T090759Z
SUMMARY: Provinzialbibliotheksführung
DESCRIPTION:https://neuburg.com/veranstaltungen/provinzialbibliotheksfuehru
 ng_id43688
DTSTART;TZID=Europe/Berlin:20260506T143000
DTEND;TZID=Europe/Berlin:20260506T151500
LOCATION:Provinzialbibliothek\, Karlsplatz 17\, 86633 Neuburg an der Donau
END:VEVENT
END:VCALENDAR
