BEGIN:VCALENDAR
VERSION:2.0
PRODID:-//Sabre//Sabre VObject 4.5.8//EN
CALSCALE:GREGORIAN
BEGIN:VEVENT
UID:sabre-vobject-133b0f77-06ba-45ac-8ff4-4071524d11bd
DTSTAMP:20260421T124530Z
SUMMARY:Nachtwächterführung
DESCRIPTION:https://neuburg.com/veranstaltungen/nachtwaechterfuehrung_id436
 83
DTSTART;TZID=Europe/Berlin:20261002T203000
DTEND;TZID=Europe/Berlin:20261002T220000
LOCATION:Tourist-Information\, Ottheinrichplatz A 118\, 86633 Neuburg
END:VEVENT
END:VCALENDAR
