BEGIN:VCALENDAR
VERSION:2.0
PRODID:-//Sabre//Sabre VObject 4.5.8//EN
CALSCALE:GREGORIAN
BEGIN:VEVENT
UID:sabre-vobject-6dab343c-6dd4-4da7-adac-a50c072cbc41
DTSTAMP:20260421T161349Z
SUMMARY:Von der Alten Kaserne zum neuen Campus
DESCRIPTION:https://neuburg.com/veranstaltungen/von-der-alten-kaserne-zum-n
 euen-campus_id43650
DTSTART;TZID=Europe/Berlin:20261002T170000
DTEND;TZID=Europe/Berlin:20261002T183000
LOCATION:Parkplatz "Landratsamt"\, Platz-der-Deutschen-Einheit 1\, 86633 Ne
 uburg
END:VEVENT
END:VCALENDAR
