BEGIN:VCALENDAR
VERSION:2.0
PRODID:-//Sabre//Sabre VObject 4.5.8//EN
CALSCALE:GREGORIAN
BEGIN:VEVENT
UID:sabre-vobject-ca90be1e-98af-4145-b17d-a06008d91b2a
DTSTAMP:20260421T124529Z
SUMMARY:Von der Alten Kaserne zum neuen Campus
DESCRIPTION:https://neuburg.com/veranstaltungen/von-der-alten-kaserne-zum-n
 euen-campus_id43649
DTSTART;TZID=Europe/Berlin:20260904T170000
DTEND;TZID=Europe/Berlin:20260904T183000
LOCATION:Parkplatz "Landratsamt"\, Platz-der-Deutschen-Einheit 1\, 86633 Ne
 uburg
END:VEVENT
END:VCALENDAR
