BEGIN:VCALENDAR
VERSION:2.0
PRODID:-//Sabre//Sabre VObject 4.5.8//EN
CALSCALE:GREGORIAN
BEGIN:VEVENT
UID:sabre-vobject-e1042448-cdbc-40bd-86b9-09bf24ab120d
DTSTAMP:20260421T160622Z
SUMMARY:Von der Alten Kaserne zum neuen Campus
DESCRIPTION:https://neuburg.com/veranstaltungen/von-der-alten-kaserne-zum-n
 euen-campus_id43648
DTSTART;TZID=Europe/Berlin:20260807T170000
DTEND;TZID=Europe/Berlin:20260807T183000
LOCATION:Parkplatz "Landratsamt"\, Platz-der-Deutschen-Einheit 1\, 86633 Ne
 uburg
END:VEVENT
END:VCALENDAR
