BEGIN:VCALENDAR
VERSION:2.0
PRODID:-//Sabre//Sabre VObject 4.5.8//EN
CALSCALE:GREGORIAN
BEGIN:VEVENT
UID:sabre-vobject-70590caa-22f6-43f8-8eb4-5f1c12bc07b2
DTSTAMP:20260421T144551Z
SUMMARY:Schloss Sandizell mit Asamkirche - Öffentliche Führung
DESCRIPTION:https://neuburg.com/veranstaltungen/schloss-sandizell-mit-asamk
 irche-oeffentliche-fuehrung_id43518
DTSTART;TZID=Europe/Berlin:20260613T140000
DURATION:PT30M
LOCATION:86529 Schrobenhausen\, Schloss Sandizell\, Schloßstraße 4\, 8652
 9 Schrobenhausen
END:VEVENT
END:VCALENDAR
