BEGIN:VCALENDAR
VERSION:2.0
PRODID:-//Sabre//Sabre VObject 4.5.8//EN
CALSCALE:GREGORIAN
BEGIN:VEVENT
UID:sabre-vobject-cbe3cb80-d327-40f6-8dee-60efb0d40dbc
DTSTAMP:20260423T091838Z
SUMMARY:Sèter Weinfest
DESCRIPTION:https://neuburg.com/veranstaltungen/seter-weinfest_id43513
DTSTART;TZID=Europe/Berlin:20260620T180000
DTEND;TZID=Europe/Berlin:20260620T234500
LOCATION:Schrannenplatz\, Schrannenplatz\, 86633 Neuburg an der Donau
END:VEVENT
END:VCALENDAR
