BEGIN:VCALENDAR
VERSION:2.0
PRODID:-//Sabre//Sabre VObject 4.5.8//EN
CALSCALE:GREGORIAN
BEGIN:VEVENT
UID:sabre-vobject-6f9fdcaa-9673-4cb9-9a05-b6fbd018e131
DTSTAMP:20260421T025824Z
SUMMARY:Neuburger Schlossweihnacht
DESCRIPTION:https://neuburg.com/veranstaltungen/neuburger-schlossweihnacht_
 id43486
DTSTART;TZID=Europe/Berlin:20261211T160000
DTEND;TZID=Europe/Berlin:20261211T210000
LOCATION:Residenzschloss Neuburg\, Residenzstraße 2\, 86633 Neuburg an der
  Donau
END:VEVENT
END:VCALENDAR
