BEGIN:VCALENDAR
VERSION:2.0
PRODID:-//Sabre//Sabre VObject 4.5.8//EN
CALSCALE:GREGORIAN
BEGIN:VEVENT
UID:sabre-vobject-bfce34a8-b46a-4b9d-af19-7cd2bd4b5a10
DTSTAMP:20260420T172114Z
SUMMARY:Neuburger Schlossweihnacht
DESCRIPTION:https://neuburg.com/veranstaltungen/neuburger-schlossweihnacht_
 id43485
DTSTART;TZID=Europe/Berlin:20261206T110000
DTEND;TZID=Europe/Berlin:20261206T200000
LOCATION:Residenzschloss Neuburg\, Residenzstraße 2\, 86633 Neuburg an der
  Donau
END:VEVENT
END:VCALENDAR
