BEGIN:VCALENDAR
VERSION:2.0
PRODID:-//Sabre//Sabre VObject 4.5.8//EN
CALSCALE:GREGORIAN
BEGIN:VEVENT
UID:sabre-vobject-aeedddfe-1757-45be-b9a8-0408602b05e7
DTSTAMP:20260420T191927Z
SUMMARY:Weihnachtsmarkt auf dem Schrannenplatz
DESCRIPTION:https://neuburg.com/veranstaltungen/weihnachtsmarkt-auf-dem-sch
 rannenplatz_id43480
DTSTART;TZID=Europe/Berlin:20261216T150000
DTEND;TZID=Europe/Berlin:20261216T190000
LOCATION:Schrannenplatz\, Schrannenplatz\, 86633 Neuburg an der Donau
END:VEVENT
END:VCALENDAR
