BEGIN:VCALENDAR
VERSION:2.0
PRODID:-//Sabre//Sabre VObject 4.5.8//EN
CALSCALE:GREGORIAN
BEGIN:VEVENT
UID:sabre-vobject-e2150867-8cd0-40fa-99da-1517fbe91515
DTSTAMP:20260420T152953Z
SUMMARY:Weihnachtsmarkt auf dem Schrannenplatz
DESCRIPTION:https://neuburg.com/veranstaltungen/weihnachtsmarkt-auf-dem-sch
 rannenplatz_id43477
DTSTART;TZID=Europe/Berlin:20261222T150000
DTEND;TZID=Europe/Berlin:20261222T190000
LOCATION:Schrannenplatz\, Schrannenplatz\, 86633 Neuburg an der Donau
END:VEVENT
END:VCALENDAR
