BEGIN:VCALENDAR
VERSION:2.0
PRODID:-//Sabre//Sabre VObject 4.5.8//EN
CALSCALE:GREGORIAN
BEGIN:VEVENT
UID:sabre-vobject-f7f0b6ed-d750-4b41-9073-9c92f53705d7
DTSTAMP:20260421T024833Z
SUMMARY:Weihnachtsmarkt auf dem Schrannenplatz
DESCRIPTION:https://neuburg.com/veranstaltungen/weihnachtsmarkt-auf-dem-sch
 rannenplatz_id43472
DTSTART;TZID=Europe/Berlin:20261214T150000
DTEND;TZID=Europe/Berlin:20261214T190000
LOCATION:Schrannenplatz\, Schrannenplatz\, 86633 Neuburg an der Donau
END:VEVENT
END:VCALENDAR
