BEGIN:VCALENDAR
VERSION:2.0
PRODID:-//Sabre//Sabre VObject 4.5.8//EN
CALSCALE:GREGORIAN
BEGIN:VEVENT
UID:sabre-vobject-ae59e6e4-6876-4e1c-84d8-9d765167d34c
DTSTAMP:20260420T175150Z
SUMMARY:Weihnachtsmarkt auf dem Schrannenplatz
DESCRIPTION:https://neuburg.com/veranstaltungen/weihnachtsmarkt-auf-dem-sch
 rannenplatz_id43467
DTSTART;TZID=Europe/Berlin:20261206T120000
DTEND;TZID=Europe/Berlin:20261206T200000
LOCATION:Schrannenplatz\, Schrannenplatz\, 86633 Neuburg an der Donau
END:VEVENT
END:VCALENDAR
