BEGIN:VCALENDAR
VERSION:2.0
PRODID:-//Sabre//Sabre VObject 4.5.8//EN
CALSCALE:GREGORIAN
BEGIN:VEVENT
UID:sabre-vobject-919e7061-212a-4ef3-ab26-6db8d9af42d0
DTSTAMP:20260421T062631Z
SUMMARY:Wochenmarkt
DESCRIPTION:https://neuburg.com/veranstaltungen/wochenmarkt_id43408
DTSTART;TZID=Europe/Berlin:20261024T063000
DTEND;TZID=Europe/Berlin:20261024T123000
LOCATION:Schrannenplatz\, Schrannenplatz\, 86633 Neuburg an der Donau
END:VEVENT
END:VCALENDAR
