BEGIN:VCALENDAR
VERSION:2.0
PRODID:-//Sabre//Sabre VObject 4.5.8//EN
CALSCALE:GREGORIAN
BEGIN:VEVENT
UID:sabre-vobject-3a78cae7-757a-49f1-92f2-2b97ca683c2f
DTSTAMP:20260421T124429Z
SUMMARY:Wochenmarkt
DESCRIPTION:https://neuburg.com/veranstaltungen/wochenmarkt_id43404
DTSTART;TZID=Europe/Berlin:20260926T063000
DTEND;TZID=Europe/Berlin:20260926T123000
LOCATION:Schrannenplatz\, Schrannenplatz\, 86633 Neuburg an der Donau
END:VEVENT
END:VCALENDAR
