BEGIN:VCALENDAR
VERSION:2.0
PRODID:-//Sabre//Sabre VObject 4.5.8//EN
CALSCALE:GREGORIAN
BEGIN:VEVENT
UID:sabre-vobject-4e5a1207-3563-476a-a028-af42bf4c8e1a
DTSTAMP:20260421T154319Z
SUMMARY:Wochenmarkt
DESCRIPTION:https://neuburg.com/veranstaltungen/wochenmarkt_id43398
DTSTART;TZID=Europe/Berlin:20260814T063000
DTEND;TZID=Europe/Berlin:20260814T123000
LOCATION:Schrannenplatz\, Schrannenplatz\, 86633 Neuburg an der Donau
END:VEVENT
END:VCALENDAR
