BEGIN:VCALENDAR
VERSION:2.0
PRODID:-//Sabre//Sabre VObject 4.5.8//EN
CALSCALE:GREGORIAN
BEGIN:VEVENT
UID:sabre-vobject-219aacc5-3cb0-4cd5-8c6a-6efdeeec5751
DTSTAMP:20260421T154223Z
SUMMARY:Wochenmarkt
DESCRIPTION:https://neuburg.com/veranstaltungen/wochenmarkt_id43397
DTSTART;TZID=Europe/Berlin:20260807T063000
DTEND;TZID=Europe/Berlin:20260807T123000
LOCATION:Schrannenplatz\, Schrannenplatz\, 86633 Neuburg an der Donau
END:VEVENT
END:VCALENDAR
