BEGIN:VCALENDAR
VERSION:2.0
PRODID:-//Sabre//Sabre VObject 4.5.8//EN
CALSCALE:GREGORIAN
BEGIN:VEVENT
UID:sabre-vobject-a6f69c82-125b-4d55-909c-14d86f0e7067
DTSTAMP:20260421T105229Z
SUMMARY:Wochenmarkt
DESCRIPTION:https://neuburg.com/veranstaltungen/wochenmarkt_id43386
DTSTART;TZID=Europe/Berlin:20260523T063000
DTEND;TZID=Europe/Berlin:20260523T123000
LOCATION:Schrannenplatz\, Schrannenplatz\, 86633 Neuburg an der Donau
END:VEVENT
END:VCALENDAR
