BEGIN:VCALENDAR
VERSION:2.0
PRODID:-//Sabre//Sabre VObject 4.5.8//EN
CALSCALE:GREGORIAN
BEGIN:VEVENT
UID:sabre-vobject-4f2c5f5f-ca27-4a8a-9829-5f14c1f84614
DTSTAMP:20260421T090617Z
SUMMARY:Wochenmarkt
DESCRIPTION:https://neuburg.com/veranstaltungen/wochenmarkt_id43385
DTSTART;TZID=Europe/Berlin:20260516T063000
DTEND;TZID=Europe/Berlin:20260516T123000
LOCATION:Schrannenplatz\, Schrannenplatz\, 86633 Neuburg an der Donau
END:VEVENT
END:VCALENDAR
