BEGIN:VCALENDAR
VERSION:2.0
PRODID:-//Sabre//Sabre VObject 4.5.8//EN
CALSCALE:GREGORIAN
BEGIN:VEVENT
UID:sabre-vobject-8f9aad79-8cc5-4171-b0f8-7cd3902da7e8
DTSTAMP:20260420T152857Z
SUMMARY:Wochenmarkt
DESCRIPTION:https://neuburg.com/veranstaltungen/wochenmarkt_id43365
DTSTART;TZID=Europe/Berlin:20261230T063000
DTEND;TZID=Europe/Berlin:20261230T123000
LOCATION:Schrannenplatz\, Schrannenplatz\, 86633 Neuburg an der Donau
END:VEVENT
END:VCALENDAR
