BEGIN:VCALENDAR
VERSION:2.0
PRODID:-//Sabre//Sabre VObject 4.5.8//EN
CALSCALE:GREGORIAN
BEGIN:VEVENT
UID:sabre-vobject-8f2a5a7b-80e8-4a05-bb5a-8fc6399bd1a6
DTSTAMP:20260421T124425Z
SUMMARY:Wochenmarkt
DESCRIPTION:https://neuburg.com/veranstaltungen/wochenmarkt_id43352
DTSTART;TZID=Europe/Berlin:20260930T063000
DTEND;TZID=Europe/Berlin:20260930T123000
LOCATION:Schrannenplatz\, Schrannenplatz\, 86633 Neuburg an der Donau
END:VEVENT
END:VCALENDAR
