BEGIN:VCALENDAR
VERSION:2.0
PRODID:-//Sabre//Sabre VObject 4.5.8//EN
CALSCALE:GREGORIAN
BEGIN:VEVENT
UID:sabre-vobject-3c62f2e8-d127-41b9-b75b-636e7a8a69b8
DTSTAMP:20260421T142658Z
SUMMARY:Wochenmarkt
DESCRIPTION:https://neuburg.com/veranstaltungen/wochenmarkt_id43350
DTSTART;TZID=Europe/Berlin:20260916T063000
DTEND;TZID=Europe/Berlin:20260916T123000
LOCATION:Schrannenplatz\, Schrannenplatz\, 86633 Neuburg an der Donau
END:VEVENT
END:VCALENDAR
