BEGIN:VCALENDAR
VERSION:2.0
PRODID:-//Sabre//Sabre VObject 4.5.8//EN
CALSCALE:GREGORIAN
BEGIN:VEVENT
UID:sabre-vobject-b7a93cd7-f4bf-4ad6-afc2-cfcc36309685
DTSTAMP:20260421T154237Z
SUMMARY:Wochenmarkt
DESCRIPTION:https://neuburg.com/veranstaltungen/wochenmarkt_id43347
DTSTART;TZID=Europe/Berlin:20260826T063000
DTEND;TZID=Europe/Berlin:20260826T123000
LOCATION:Schrannenplatz\, Schrannenplatz\, 86633 Neuburg an der Donau
END:VEVENT
END:VCALENDAR
