BEGIN:VCALENDAR
VERSION:2.0
PRODID:-//Sabre//Sabre VObject 4.5.8//EN
CALSCALE:GREGORIAN
BEGIN:VEVENT
UID:sabre-vobject-706375e8-47f0-43cc-b0a9-fc990ec5a8a8
DTSTAMP:20260423T091833Z
SUMMARY:Wochenmarkt
DESCRIPTION:https://neuburg.com/veranstaltungen/wochenmarkt_id43341
DTSTART;TZID=Europe/Berlin:20260715T063000
DTEND;TZID=Europe/Berlin:20260715T123000
LOCATION:Schrannenplatz\, Schrannenplatz\, 86633 Neuburg an der Donau
END:VEVENT
END:VCALENDAR
