BEGIN:VCALENDAR
VERSION:2.0
PRODID:-//Sabre//Sabre VObject 4.5.8//EN
CALSCALE:GREGORIAN
BEGIN:VEVENT
UID:sabre-vobject-f36bda66-5363-4cbf-a4f4-e8585a1fd1fb
DTSTAMP:20260421T113624Z
SUMMARY:Wochenmarkt
DESCRIPTION:https://neuburg.com/veranstaltungen/wochenmarkt_id43336
DTSTART;TZID=Europe/Berlin:20260610T063000
DTEND;TZID=Europe/Berlin:20260610T123000
LOCATION:Schrannenplatz\, Schrannenplatz\, 86633 Neuburg an der Donau
END:VEVENT
END:VCALENDAR
