BEGIN:VCALENDAR
VERSION:2.0
PRODID:-//Sabre//Sabre VObject 4.5.8//EN
CALSCALE:GREGORIAN
BEGIN:VEVENT
UID:sabre-vobject-1dc00ea0-b6fc-46ce-971a-60922cbbb084
DTSTAMP:20260423T091913Z
SUMMARY:Tatort Hinterkaifeck - Öffentliche Führung
DESCRIPTION:https://neuburg.com/veranstaltungen/tatort-hinterkaifeck-oeffen
 tliche-fuehrung_id43155
DTSTART;TZID=Europe/Berlin:20260426T174500
DURATION:PT30M
LOCATION:Hinterkaifeck\, \, 86579  Waidhofen
END:VEVENT
END:VCALENDAR
