BEGIN:VCALENDAR
VERSION:2.0
PRODID:-//Sabre//Sabre VObject 4.5.8//EN
CALSCALE:GREGORIAN
BEGIN:VEVENT
UID:sabre-vobject-998139f9-a155-4311-bb02-728e5066b227
DTSTAMP:20260425T210846Z
SUMMARY:Andrea Viebach SCHLAF DER VERNUNFT 
DESCRIPTION:https://neuburg.com/veranstaltungen/andrea-viebach-schlaf-der-v
 ernunft_id39181
DTSTART;TZID=Europe/Berlin:20210913T110000
DTEND;TZID=Europe/Berlin:20210913T190000
LOCATION:Städtische Galerie im Fürstengang\, Amalienstraße\, 86633 Neubu
 rg an der Donau
END:VEVENT
END:VCALENDAR
