BEGIN:VCALENDAR
VERSION:2.0
PRODID:-//Sabre//Sabre VObject 4.5.8//EN
CALSCALE:GREGORIAN
BEGIN:VEVENT
UID:sabre-vobject-11a43d15-d692-4646-a970-e7e210ab4de8
DTSTAMP:20260425T210903Z
SUMMARY:Andrea Viebach SCHLAF DER VERNUNFT 
DESCRIPTION:https://neuburg.com/veranstaltungen/andrea-viebach-schlaf-der-v
 ernunft_id39180
DTSTART;TZID=Europe/Berlin:20210920T110000
DTEND;TZID=Europe/Berlin:20210920T190000
LOCATION:Städtische Galerie im Fürstengang\, Amalienstraße\, 86633 Neubu
 rg an der Donau
END:VEVENT
END:VCALENDAR
