BEGIN:VCALENDAR
VERSION:2.0
PRODID:-//Sabre//Sabre VObject 4.5.8//EN
CALSCALE:GREGORIAN
BEGIN:VEVENT
UID:sabre-vobject-06818e4c-fa7d-4d9f-82a0-759269c3e2dc
DTSTAMP:20260424T161414Z
SUMMARY:Andrea Viebach SCHLAF DER VERNUNFT 
DESCRIPTION:https://neuburg.com/veranstaltungen/andrea-viebach-schlaf-der-v
 ernunft_id39115
DTSTART;TZID=Europe/Berlin:20221219T110000
DTEND;TZID=Europe/Berlin:20221219T190000
LOCATION:Städtische Galerie im Fürstengang\, Amalienstraße\, 86633 Neubu
 rg an der Donau
END:VEVENT
END:VCALENDAR
