BEGIN:VCALENDAR
VERSION:2.0
PRODID:-//Sabre//Sabre VObject 4.5.8//EN
CALSCALE:GREGORIAN
BEGIN:VEVENT
UID:sabre-vobject-d01b4d34-e600-4ef8-a48a-f10f93d6c635
DTSTAMP:20260421T105256Z
SUMMARY:BARING FEIERT | 550 Jahre der Vereine
DESCRIPTION:https://neuburg.com/veranstaltungen/baring-feiert-550-jahre-der
 -vereine_id38637
DTSTART;TZID=Europe/Berlin:20260906T173000
DURATION:PT30M
LOCATION:Bergen
END:VEVENT
END:VCALENDAR
