BEGIN:VCALENDAR
VERSION:2.0
PRODID:-//Sabre//Sabre VObject 4.5.8//EN
CALSCALE:GREGORIAN
BEGIN:VEVENT
UID:sabre-vobject-e47c8ce0-3a37-4666-a543-c9800c55a2ea
DTSTAMP:20260421T105255Z
SUMMARY:BARING FEIERT | 550 Jahre der Vereine
DESCRIPTION:https://neuburg.com/veranstaltungen/baring-feiert-550-jahre-der
 -vereine_id38636
DTSTART;TZID=Europe/Berlin:20260905T173000
DURATION:PT30M
LOCATION:Bergen
END:VEVENT
END:VCALENDAR
