BEGIN:VCALENDAR
VERSION:2.0
PRODID:-//Sabre//Sabre VObject 4.5.8//EN
CALSCALE:GREGORIAN
BEGIN:VEVENT
UID:sabre-vobject-894828ab-c939-461a-9f50-61769a333e4c
DTSTAMP:20260421T105256Z
SUMMARY:BARING FEIERT | 550 Jahre der Vereine
DESCRIPTION:https://neuburg.com/veranstaltungen/baring-feiert-550-jahre-der
 -vereine_id38634
DTSTART;TZID=Europe/Berlin:20260904T173000
DURATION:PT30M
LOCATION:Bergen
END:VEVENT
END:VCALENDAR
