BEGIN:VCALENDAR
VERSION:2.0
PRODID:-//Sabre//Sabre VObject 4.5.8//EN
CALSCALE:GREGORIAN
BEGIN:VEVENT
UID:sabre-vobject-ffb15d41-bf11-43b3-8797-336f81fc690f
DTSTAMP:20260421T144612Z
SUMMARY:Donauspaziergang mit dem Donauweibchen Danubia
DESCRIPTION:https://neuburg.com/veranstaltungen/donauspaziergang-mit-dem-do
 nauweibchen-danubia_id36890
DTSTART;TZID=Europe/Berlin:20261002T160000
DTEND;TZID=Europe/Berlin:20261002T183000
LOCATION:Parkplatz "Schlösslwiese"\, Ringmeierbucht\, 86633 Neuburg
END:VEVENT
END:VCALENDAR
