BEGIN:VCALENDAR
VERSION:2.0
PRODID:-//Sabre//Sabre VObject 4.5.8//EN
CALSCALE:GREGORIAN
BEGIN:VEVENT
UID:sabre-vobject-42466d01-a403-47e3-95f3-4495d1afb73c
DTSTAMP:20260425T131422Z
SUMMARY:Walpurgisnacht – vom Treiben der Hexen
DESCRIPTION:https://neuburg.com/veranstaltungen/walpurgisnacht-vom-treiben-
 der-hexen_id36818
DTSTART;TZID=Europe/Berlin:20260430T203000
DTEND;TZID=Europe/Berlin:20260430T220000
LOCATION:Tourist-Information\, Ottheinrichplatz A 118\, 86633 Neuburg
END:VEVENT
END:VCALENDAR
