BEGIN:VCALENDAR
VERSION:2.0
PRODID:-//Sabre//Sabre VObject 4.5.8//EN
CALSCALE:GREGORIAN
BEGIN:VEVENT
UID:sabre-vobject-f2b3d939-5e2a-410c-aeec-4a57e8e1ff4a
DTSTAMP:20260421T090832Z
SUMMARY:Neuburger Volksfest
DESCRIPTION:https://neuburg.com/veranstaltungen/neuburger-volksfest_id36597
DTSTART;TZID=Europe/Berlin:20260801T140000
DURATION:PT30M
LOCATION:Volksfestplatz\, Volksfestplatz\, 86633 Neuburg an der Donau
END:VEVENT
END:VCALENDAR
