BEGIN:VCALENDAR
VERSION:2.0
PRODID:-//Sabre//Sabre VObject 4.5.8//EN
CALSCALE:GREGORIAN
BEGIN:VEVENT
UID:sabre-vobject-85a8b7f7-1879-4e71-976c-ace06ee0b9e7
DTSTAMP:20260421T124536Z
SUMMARY:Coming Home| mit August Zirner und Sven Faller 
DESCRIPTION:https://neuburg.com/veranstaltungen/coming-home-mit-august-zirn
 er-und-sven-faller_id36468
DTSTART;TZID=Europe/Berlin:20261001T200000
DURATION:PT30M
LOCATION:Stadttheater\, Residenzstraße A67\, 86633 Neuburg an der Donau
END:VEVENT
END:VCALENDAR
