BEGIN:VCALENDAR
VERSION:2.0
PRODID:-//Sabre//Sabre VObject 4.5.8//EN
CALSCALE:GREGORIAN
BEGIN:VEVENT
UID:sabre-vobject-08347473-6609-40e6-b01f-3263ddd9ab50
DTSTAMP:20260421T090831Z
SUMMARY:Magic Soundscapes | mit Martin Kälber  und Sven Faller 
DESCRIPTION:https://neuburg.com/veranstaltungen/magic-soundscapes-mit-marti
 n-kaelber-und-sven-faller_id36466
DTSTART;TZID=Europe/Berlin:20260507T200000
DURATION:PT30M
LOCATION:Schlösschen Hessellohe\, Bullbug 2\, 86633 Neuburg an der Donau
END:VEVENT
END:VCALENDAR
