BEGIN:VCALENDAR
VERSION:2.0
PRODID:-//Sabre//Sabre VObject 4.5.8//EN
CALSCALE:GREGORIAN
BEGIN:VEVENT
UID:sabre-vobject-4d1507f2-c52a-4505-b90d-8398975a93db
DTSTAMP:20260421T124430Z
SUMMARY:Unterwegs mit Donaufischer Lenz
DESCRIPTION:https://neuburg.com/veranstaltungen/unterwegs-mit-donaufischer-
 lenz_id36031
DTSTART;TZID=Europe/Berlin:20260529T190000
DTEND;TZID=Europe/Berlin:20260529T203000
LOCATION:Tourist-Information\, Ottheinrichplatz A 118\, 86633 Neuburg
END:VEVENT
END:VCALENDAR
