BEGIN:VCALENDAR
VERSION:2.0
PRODID:-//Sabre//Sabre VObject 4.5.8//EN
CALSCALE:GREGORIAN
BEGIN:VEVENT
UID:sabre-vobject-54fbd031-42f4-4d9b-99f2-04b045f67eb8
DTSTAMP:20260423T091220Z
SUMMARY:Nachtwächterführung
DESCRIPTION:https://neuburg.com/veranstaltungen/nachtwaechterfuehrung_id359
 25
DTSTART;TZID=Europe/Berlin:20260904T203000
DTEND;TZID=Europe/Berlin:20260904T220000
LOCATION:Tourist-Information\, Ottheinrichplatz A 118\, 86633 Neuburg
END:VEVENT
END:VCALENDAR
