BEGIN:VCALENDAR
VERSION:2.0
PRODID:-//Sabre//Sabre VObject 4.5.8//EN
CALSCALE:GREGORIAN
BEGIN:VEVENT
UID:sabre-vobject-8bc563ba-0977-4554-867e-999b6f9495b1
DTSTAMP:20260421T160605Z
SUMMARY:Nachtwächterführung
DESCRIPTION:https://neuburg.com/veranstaltungen/nachtwaechterfuehrung_id359
 24
DTSTART;TZID=Europe/Berlin:20260821T203000
DTEND;TZID=Europe/Berlin:20260821T220000
LOCATION:Tourist-Information\, Ottheinrichplatz A 118\, 86633 Neuburg
END:VEVENT
END:VCALENDAR
