BEGIN:VCALENDAR
VERSION:2.0
PRODID:-//Sabre//Sabre VObject 4.5.8//EN
CALSCALE:GREGORIAN
BEGIN:VEVENT
UID:sabre-vobject-f7b6582a-0133-4900-8e02-ea96c803c3a8
DTSTAMP:20260421T082216Z
SUMMARY:Nachtwächterführung
DESCRIPTION:https://neuburg.com/veranstaltungen/nachtwaechterfuehrung_id359
 21
DTSTART;TZID=Europe/Berlin:20260703T203000
DTEND;TZID=Europe/Berlin:20260703T220000
LOCATION:Tourist-Information\, Ottheinrichplatz A 118\, 86633 Neuburg
END:VEVENT
END:VCALENDAR
