BEGIN:VCALENDAR
VERSION:2.0
PRODID:-//Sabre//Sabre VObject 4.5.8//EN
CALSCALE:GREGORIAN
BEGIN:VEVENT
UID:sabre-vobject-50162c3e-0a48-4730-920b-94b8503f434c
DTSTAMP:20260421T090659Z
SUMMARY:Nachtwächterführung
DESCRIPTION:https://neuburg.com/veranstaltungen/nachtwaechterfuehrung_id359
 20
DTSTART;TZID=Europe/Berlin:20260619T203000
DTEND;TZID=Europe/Berlin:20260619T220000
LOCATION:Tourist-Information\, Ottheinrichplatz A 118\, 86633 Neuburg
END:VEVENT
END:VCALENDAR
