BEGIN:VCALENDAR
VERSION:2.0
PRODID:-//Sabre//Sabre VObject 4.5.8//EN
CALSCALE:GREGORIAN
BEGIN:VEVENT
UID:sabre-vobject-e2e38e54-72cc-495d-b5a0-61279012090b
DTSTAMP:20260421T105227Z
SUMMARY:Von Hexen\, Heilern & Halunken
DESCRIPTION:https://neuburg.com/veranstaltungen/von-hexen-heilern-halunken_
 id35916
DTSTART;TZID=Europe/Berlin:20260911T190000
DTEND;TZID=Europe/Berlin:20260911T203000
LOCATION:Tourist-Information\, Ottheinrichplatz A 118\, 86633 Neuburg
END:VEVENT
END:VCALENDAR
