BEGIN:VCALENDAR
VERSION:2.0
PRODID:-//Sabre//Sabre VObject 4.5.8//EN
CALSCALE:GREGORIAN
BEGIN:VEVENT
UID:sabre-vobject-213a87fa-24c8-41c0-b8ee-f3809003eae4
DTSTAMP:20260421T154319Z
SUMMARY:Von Hexen\, Heilern & Halunken
DESCRIPTION:https://neuburg.com/veranstaltungen/von-hexen-heilern-halunken_
 id35915
DTSTART;TZID=Europe/Berlin:20260814T190000
DTEND;TZID=Europe/Berlin:20260814T203000
LOCATION:Tourist-Information\, Ottheinrichplatz A 118\, 86633 Neuburg
END:VEVENT
END:VCALENDAR
