BEGIN:VCALENDAR
VERSION:2.0
PRODID:-//Sabre//Sabre VObject 4.5.8//EN
CALSCALE:GREGORIAN
BEGIN:VEVENT
UID:sabre-vobject-5d3740b2-54a6-49df-a148-93d061ba6fb1
DTSTAMP:20260421T083456Z
SUMMARY:Von Hexen\, Heilern & Halunken
DESCRIPTION:https://neuburg.com/veranstaltungen/von-hexen-heilern-halunken_
 id35914
DTSTART;TZID=Europe/Berlin:20260710T190000
DTEND;TZID=Europe/Berlin:20260710T203000
LOCATION:Tourist-Information\, Ottheinrichplatz A 118\, 86633 Neuburg
END:VEVENT
END:VCALENDAR
